BEGIN:VCALENDAR
VERSION:2.0
PRODID:-//Discover Gosport - ECPv6.15.17.1//NONSGML v1.0//EN
CALSCALE:GREGORIAN
METHOD:PUBLISH
X-WR-CALNAME:Discover Gosport
X-ORIGINAL-URL:https://www.discovergosport.co.uk
X-WR-CALDESC:Events for Discover Gosport
REFRESH-INTERVAL;VALUE=DURATION:PT1H
X-Robots-Tag:noindex
X-PUBLISHED-TTL:PT1H
BEGIN:VTIMEZONE
TZID:UTC
BEGIN:STANDARD
TZOFFSETFROM:+0000
TZOFFSETTO:+0000
TZNAME:UTC
DTSTART:20250101T000000
END:STANDARD
END:VTIMEZONE
BEGIN:VEVENT
DTSTART;TZID=UTC:20260423T100000
DTEND;TZID=UTC:20260423T120000
DTSTAMP:20260420T080027
CREATED:20251125T163429Z
LAST-MODIFIED:20251125T163429Z
UID:10006602-1776938400-1776945600@www.discovergosport.co.uk
SUMMARY:Willow welly and wellbeing group
DESCRIPTION:Weekly volunteer session in the Willow Incredible Garden behind Forton Medical Centre. All welcome. Come and join this relaxed and friendly group\, do as much or as little as you wish and pop in for 10 minutes or 2 hours. A friendly welcome awaits. Tools\, gloves and refreshments provided. \nGarden behind Forton Medical Centre\, Whites Place\, PO12 3JP
URL:https://www.discovergosport.co.uk/event/willow-welly-and-wellbeing-group/2026-04-23/
CATEGORIES:Community,Explore
ATTACH;FMTTYPE=image/png:https://www.discovergosport.co.uk/wp-content/uploads/2025/11/Willow-Welly-and-Wellbeing-group-A5-Document.zip-2-e1764088446423.png
END:VEVENT
BEGIN:VEVENT
DTSTART;TZID=UTC:20260430T100000
DTEND;TZID=UTC:20260430T120000
DTSTAMP:20260420T080027
CREATED:20251125T163429Z
LAST-MODIFIED:20251125T163429Z
UID:10006603-1777543200-1777550400@www.discovergosport.co.uk
SUMMARY:Willow welly and wellbeing group
DESCRIPTION:Weekly volunteer session in the Willow Incredible Garden behind Forton Medical Centre. All welcome. Come and join this relaxed and friendly group\, do as much or as little as you wish and pop in for 10 minutes or 2 hours. A friendly welcome awaits. Tools\, gloves and refreshments provided. \nGarden behind Forton Medical Centre\, Whites Place\, PO12 3JP
URL:https://www.discovergosport.co.uk/event/willow-welly-and-wellbeing-group/2026-04-30/
CATEGORIES:Community,Explore
ATTACH;FMTTYPE=image/png:https://www.discovergosport.co.uk/wp-content/uploads/2025/11/Willow-Welly-and-Wellbeing-group-A5-Document.zip-2-e1764088446423.png
END:VEVENT
BEGIN:VEVENT
DTSTART;TZID=UTC:20260507T100000
DTEND;TZID=UTC:20260507T120000
DTSTAMP:20260420T080027
CREATED:20251125T163429Z
LAST-MODIFIED:20251125T163429Z
UID:10006604-1778148000-1778155200@www.discovergosport.co.uk
SUMMARY:Willow welly and wellbeing group
DESCRIPTION:Weekly volunteer session in the Willow Incredible Garden behind Forton Medical Centre. All welcome. Come and join this relaxed and friendly group\, do as much or as little as you wish and pop in for 10 minutes or 2 hours. A friendly welcome awaits. Tools\, gloves and refreshments provided. \nGarden behind Forton Medical Centre\, Whites Place\, PO12 3JP
URL:https://www.discovergosport.co.uk/event/willow-welly-and-wellbeing-group/2026-05-07/
CATEGORIES:Community,Explore
ATTACH;FMTTYPE=image/png:https://www.discovergosport.co.uk/wp-content/uploads/2025/11/Willow-Welly-and-Wellbeing-group-A5-Document.zip-2-e1764088446423.png
END:VEVENT
BEGIN:VEVENT
DTSTART;TZID=UTC:20260514T100000
DTEND;TZID=UTC:20260514T120000
DTSTAMP:20260420T080027
CREATED:20251125T163429Z
LAST-MODIFIED:20251125T163429Z
UID:10006605-1778752800-1778760000@www.discovergosport.co.uk
SUMMARY:Willow welly and wellbeing group
DESCRIPTION:Weekly volunteer session in the Willow Incredible Garden behind Forton Medical Centre. All welcome. Come and join this relaxed and friendly group\, do as much or as little as you wish and pop in for 10 minutes or 2 hours. A friendly welcome awaits. Tools\, gloves and refreshments provided. \nGarden behind Forton Medical Centre\, Whites Place\, PO12 3JP
URL:https://www.discovergosport.co.uk/event/willow-welly-and-wellbeing-group/2026-05-14/
CATEGORIES:Community,Explore
ATTACH;FMTTYPE=image/png:https://www.discovergosport.co.uk/wp-content/uploads/2025/11/Willow-Welly-and-Wellbeing-group-A5-Document.zip-2-e1764088446423.png
END:VEVENT
BEGIN:VEVENT
DTSTART;TZID=UTC:20260521T100000
DTEND;TZID=UTC:20260521T120000
DTSTAMP:20260420T080027
CREATED:20251125T163429Z
LAST-MODIFIED:20251125T163429Z
UID:10006606-1779357600-1779364800@www.discovergosport.co.uk
SUMMARY:Willow welly and wellbeing group
DESCRIPTION:Weekly volunteer session in the Willow Incredible Garden behind Forton Medical Centre. All welcome. Come and join this relaxed and friendly group\, do as much or as little as you wish and pop in for 10 minutes or 2 hours. A friendly welcome awaits. Tools\, gloves and refreshments provided. \nGarden behind Forton Medical Centre\, Whites Place\, PO12 3JP
URL:https://www.discovergosport.co.uk/event/willow-welly-and-wellbeing-group/2026-05-21/
CATEGORIES:Community,Explore
ATTACH;FMTTYPE=image/png:https://www.discovergosport.co.uk/wp-content/uploads/2025/11/Willow-Welly-and-Wellbeing-group-A5-Document.zip-2-e1764088446423.png
END:VEVENT
BEGIN:VEVENT
DTSTART;TZID=UTC:20260528T100000
DTEND;TZID=UTC:20260528T120000
DTSTAMP:20260420T080027
CREATED:20251125T163429Z
LAST-MODIFIED:20251125T163429Z
UID:10006607-1779962400-1779969600@www.discovergosport.co.uk
SUMMARY:Willow welly and wellbeing group
DESCRIPTION:Weekly volunteer session in the Willow Incredible Garden behind Forton Medical Centre. All welcome. Come and join this relaxed and friendly group\, do as much or as little as you wish and pop in for 10 minutes or 2 hours. A friendly welcome awaits. Tools\, gloves and refreshments provided. \nGarden behind Forton Medical Centre\, Whites Place\, PO12 3JP
URL:https://www.discovergosport.co.uk/event/willow-welly-and-wellbeing-group/2026-05-28/
CATEGORIES:Community,Explore
ATTACH;FMTTYPE=image/png:https://www.discovergosport.co.uk/wp-content/uploads/2025/11/Willow-Welly-and-Wellbeing-group-A5-Document.zip-2-e1764088446423.png
END:VEVENT
BEGIN:VEVENT
DTSTART;TZID=UTC:20260604T100000
DTEND;TZID=UTC:20260604T120000
DTSTAMP:20260420T080027
CREATED:20251125T163429Z
LAST-MODIFIED:20251125T163429Z
UID:10006608-1780567200-1780574400@www.discovergosport.co.uk
SUMMARY:Willow welly and wellbeing group
DESCRIPTION:Weekly volunteer session in the Willow Incredible Garden behind Forton Medical Centre. All welcome. Come and join this relaxed and friendly group\, do as much or as little as you wish and pop in for 10 minutes or 2 hours. A friendly welcome awaits. Tools\, gloves and refreshments provided. \nGarden behind Forton Medical Centre\, Whites Place\, PO12 3JP
URL:https://www.discovergosport.co.uk/event/willow-welly-and-wellbeing-group/2026-06-04/
CATEGORIES:Community,Explore
ATTACH;FMTTYPE=image/png:https://www.discovergosport.co.uk/wp-content/uploads/2025/11/Willow-Welly-and-Wellbeing-group-A5-Document.zip-2-e1764088446423.png
END:VEVENT
BEGIN:VEVENT
DTSTART;TZID=UTC:20260611T100000
DTEND;TZID=UTC:20260611T120000
DTSTAMP:20260420T080027
CREATED:20251125T163429Z
LAST-MODIFIED:20251125T163429Z
UID:10006609-1781172000-1781179200@www.discovergosport.co.uk
SUMMARY:Willow welly and wellbeing group
DESCRIPTION:Weekly volunteer session in the Willow Incredible Garden behind Forton Medical Centre. All welcome. Come and join this relaxed and friendly group\, do as much or as little as you wish and pop in for 10 minutes or 2 hours. A friendly welcome awaits. Tools\, gloves and refreshments provided. \nGarden behind Forton Medical Centre\, Whites Place\, PO12 3JP
URL:https://www.discovergosport.co.uk/event/willow-welly-and-wellbeing-group/2026-06-11/
CATEGORIES:Community,Explore
ATTACH;FMTTYPE=image/png:https://www.discovergosport.co.uk/wp-content/uploads/2025/11/Willow-Welly-and-Wellbeing-group-A5-Document.zip-2-e1764088446423.png
END:VEVENT
BEGIN:VEVENT
DTSTART;TZID=UTC:20260618T100000
DTEND;TZID=UTC:20260618T120000
DTSTAMP:20260420T080027
CREATED:20251125T163429Z
LAST-MODIFIED:20251125T163429Z
UID:10006610-1781776800-1781784000@www.discovergosport.co.uk
SUMMARY:Willow welly and wellbeing group
DESCRIPTION:Weekly volunteer session in the Willow Incredible Garden behind Forton Medical Centre. All welcome. Come and join this relaxed and friendly group\, do as much or as little as you wish and pop in for 10 minutes or 2 hours. A friendly welcome awaits. Tools\, gloves and refreshments provided. \nGarden behind Forton Medical Centre\, Whites Place\, PO12 3JP
URL:https://www.discovergosport.co.uk/event/willow-welly-and-wellbeing-group/2026-06-18/
CATEGORIES:Community,Explore
ATTACH;FMTTYPE=image/png:https://www.discovergosport.co.uk/wp-content/uploads/2025/11/Willow-Welly-and-Wellbeing-group-A5-Document.zip-2-e1764088446423.png
END:VEVENT
BEGIN:VEVENT
DTSTART;TZID=UTC:20260625T100000
DTEND;TZID=UTC:20260625T120000
DTSTAMP:20260420T080027
CREATED:20251125T163429Z
LAST-MODIFIED:20251125T163429Z
UID:10006611-1782381600-1782388800@www.discovergosport.co.uk
SUMMARY:Willow welly and wellbeing group
DESCRIPTION:Weekly volunteer session in the Willow Incredible Garden behind Forton Medical Centre. All welcome. Come and join this relaxed and friendly group\, do as much or as little as you wish and pop in for 10 minutes or 2 hours. A friendly welcome awaits. Tools\, gloves and refreshments provided. \nGarden behind Forton Medical Centre\, Whites Place\, PO12 3JP
URL:https://www.discovergosport.co.uk/event/willow-welly-and-wellbeing-group/2026-06-25/
CATEGORIES:Community,Explore
ATTACH;FMTTYPE=image/png:https://www.discovergosport.co.uk/wp-content/uploads/2025/11/Willow-Welly-and-Wellbeing-group-A5-Document.zip-2-e1764088446423.png
END:VEVENT
BEGIN:VEVENT
DTSTART;TZID=UTC:20260702T100000
DTEND;TZID=UTC:20260702T120000
DTSTAMP:20260420T080027
CREATED:20251125T163429Z
LAST-MODIFIED:20251125T163429Z
UID:10006612-1782986400-1782993600@www.discovergosport.co.uk
SUMMARY:Willow welly and wellbeing group
DESCRIPTION:Weekly volunteer session in the Willow Incredible Garden behind Forton Medical Centre. All welcome. Come and join this relaxed and friendly group\, do as much or as little as you wish and pop in for 10 minutes or 2 hours. A friendly welcome awaits. Tools\, gloves and refreshments provided. \nGarden behind Forton Medical Centre\, Whites Place\, PO12 3JP
URL:https://www.discovergosport.co.uk/event/willow-welly-and-wellbeing-group/2026-07-02/
CATEGORIES:Community,Explore
ATTACH;FMTTYPE=image/png:https://www.discovergosport.co.uk/wp-content/uploads/2025/11/Willow-Welly-and-Wellbeing-group-A5-Document.zip-2-e1764088446423.png
END:VEVENT
BEGIN:VEVENT
DTSTART;TZID=UTC:20260709T100000
DTEND;TZID=UTC:20260709T120000
DTSTAMP:20260420T080027
CREATED:20251125T163429Z
LAST-MODIFIED:20251125T163429Z
UID:10006613-1783591200-1783598400@www.discovergosport.co.uk
SUMMARY:Willow welly and wellbeing group
DESCRIPTION:Weekly volunteer session in the Willow Incredible Garden behind Forton Medical Centre. All welcome. Come and join this relaxed and friendly group\, do as much or as little as you wish and pop in for 10 minutes or 2 hours. A friendly welcome awaits. Tools\, gloves and refreshments provided. \nGarden behind Forton Medical Centre\, Whites Place\, PO12 3JP
URL:https://www.discovergosport.co.uk/event/willow-welly-and-wellbeing-group/2026-07-09/
CATEGORIES:Community,Explore
ATTACH;FMTTYPE=image/png:https://www.discovergosport.co.uk/wp-content/uploads/2025/11/Willow-Welly-and-Wellbeing-group-A5-Document.zip-2-e1764088446423.png
END:VEVENT
BEGIN:VEVENT
DTSTART;TZID=UTC:20260716T100000
DTEND;TZID=UTC:20260716T120000
DTSTAMP:20260420T080027
CREATED:20251125T163429Z
LAST-MODIFIED:20251125T163429Z
UID:10006614-1784196000-1784203200@www.discovergosport.co.uk
SUMMARY:Willow welly and wellbeing group
DESCRIPTION:Weekly volunteer session in the Willow Incredible Garden behind Forton Medical Centre. All welcome. Come and join this relaxed and friendly group\, do as much or as little as you wish and pop in for 10 minutes or 2 hours. A friendly welcome awaits. Tools\, gloves and refreshments provided. \nGarden behind Forton Medical Centre\, Whites Place\, PO12 3JP
URL:https://www.discovergosport.co.uk/event/willow-welly-and-wellbeing-group/2026-07-16/
CATEGORIES:Community,Explore
ATTACH;FMTTYPE=image/png:https://www.discovergosport.co.uk/wp-content/uploads/2025/11/Willow-Welly-and-Wellbeing-group-A5-Document.zip-2-e1764088446423.png
END:VEVENT
BEGIN:VEVENT
DTSTART;TZID=UTC:20260723T100000
DTEND;TZID=UTC:20260723T120000
DTSTAMP:20260420T080027
CREATED:20251125T163429Z
LAST-MODIFIED:20251125T163429Z
UID:10006615-1784800800-1784808000@www.discovergosport.co.uk
SUMMARY:Willow welly and wellbeing group
DESCRIPTION:Weekly volunteer session in the Willow Incredible Garden behind Forton Medical Centre. All welcome. Come and join this relaxed and friendly group\, do as much or as little as you wish and pop in for 10 minutes or 2 hours. A friendly welcome awaits. Tools\, gloves and refreshments provided. \nGarden behind Forton Medical Centre\, Whites Place\, PO12 3JP
URL:https://www.discovergosport.co.uk/event/willow-welly-and-wellbeing-group/2026-07-23/
CATEGORIES:Community,Explore
ATTACH;FMTTYPE=image/png:https://www.discovergosport.co.uk/wp-content/uploads/2025/11/Willow-Welly-and-Wellbeing-group-A5-Document.zip-2-e1764088446423.png
END:VEVENT
BEGIN:VEVENT
DTSTART;TZID=UTC:20260730T100000
DTEND;TZID=UTC:20260730T120000
DTSTAMP:20260420T080027
CREATED:20251125T163429Z
LAST-MODIFIED:20251125T163429Z
UID:10006616-1785405600-1785412800@www.discovergosport.co.uk
SUMMARY:Willow welly and wellbeing group
DESCRIPTION:Weekly volunteer session in the Willow Incredible Garden behind Forton Medical Centre. All welcome. Come and join this relaxed and friendly group\, do as much or as little as you wish and pop in for 10 minutes or 2 hours. A friendly welcome awaits. Tools\, gloves and refreshments provided. \nGarden behind Forton Medical Centre\, Whites Place\, PO12 3JP
URL:https://www.discovergosport.co.uk/event/willow-welly-and-wellbeing-group/2026-07-30/
CATEGORIES:Community,Explore
ATTACH;FMTTYPE=image/png:https://www.discovergosport.co.uk/wp-content/uploads/2025/11/Willow-Welly-and-Wellbeing-group-A5-Document.zip-2-e1764088446423.png
END:VEVENT
BEGIN:VEVENT
DTSTART;TZID=UTC:20260806T100000
DTEND;TZID=UTC:20260806T120000
DTSTAMP:20260420T080027
CREATED:20251125T163429Z
LAST-MODIFIED:20251125T163429Z
UID:10006617-1786010400-1786017600@www.discovergosport.co.uk
SUMMARY:Willow welly and wellbeing group
DESCRIPTION:Weekly volunteer session in the Willow Incredible Garden behind Forton Medical Centre. All welcome. Come and join this relaxed and friendly group\, do as much or as little as you wish and pop in for 10 minutes or 2 hours. A friendly welcome awaits. Tools\, gloves and refreshments provided. \nGarden behind Forton Medical Centre\, Whites Place\, PO12 3JP
URL:https://www.discovergosport.co.uk/event/willow-welly-and-wellbeing-group/2026-08-06/
CATEGORIES:Community,Explore
ATTACH;FMTTYPE=image/png:https://www.discovergosport.co.uk/wp-content/uploads/2025/11/Willow-Welly-and-Wellbeing-group-A5-Document.zip-2-e1764088446423.png
END:VEVENT
BEGIN:VEVENT
DTSTART;TZID=UTC:20260813T100000
DTEND;TZID=UTC:20260813T120000
DTSTAMP:20260420T080027
CREATED:20251125T163429Z
LAST-MODIFIED:20251125T163429Z
UID:10006618-1786615200-1786622400@www.discovergosport.co.uk
SUMMARY:Willow welly and wellbeing group
DESCRIPTION:Weekly volunteer session in the Willow Incredible Garden behind Forton Medical Centre. All welcome. Come and join this relaxed and friendly group\, do as much or as little as you wish and pop in for 10 minutes or 2 hours. A friendly welcome awaits. Tools\, gloves and refreshments provided. \nGarden behind Forton Medical Centre\, Whites Place\, PO12 3JP
URL:https://www.discovergosport.co.uk/event/willow-welly-and-wellbeing-group/2026-08-13/
CATEGORIES:Community,Explore
ATTACH;FMTTYPE=image/png:https://www.discovergosport.co.uk/wp-content/uploads/2025/11/Willow-Welly-and-Wellbeing-group-A5-Document.zip-2-e1764088446423.png
END:VEVENT
BEGIN:VEVENT
DTSTART;TZID=UTC:20260820T100000
DTEND;TZID=UTC:20260820T120000
DTSTAMP:20260420T080027
CREATED:20251125T163429Z
LAST-MODIFIED:20251125T163429Z
UID:10006619-1787220000-1787227200@www.discovergosport.co.uk
SUMMARY:Willow welly and wellbeing group
DESCRIPTION:Weekly volunteer session in the Willow Incredible Garden behind Forton Medical Centre. All welcome. Come and join this relaxed and friendly group\, do as much or as little as you wish and pop in for 10 minutes or 2 hours. A friendly welcome awaits. Tools\, gloves and refreshments provided. \nGarden behind Forton Medical Centre\, Whites Place\, PO12 3JP
URL:https://www.discovergosport.co.uk/event/willow-welly-and-wellbeing-group/2026-08-20/
CATEGORIES:Community,Explore
ATTACH;FMTTYPE=image/png:https://www.discovergosport.co.uk/wp-content/uploads/2025/11/Willow-Welly-and-Wellbeing-group-A5-Document.zip-2-e1764088446423.png
END:VEVENT
BEGIN:VEVENT
DTSTART;TZID=UTC:20260827T100000
DTEND;TZID=UTC:20260827T120000
DTSTAMP:20260420T080027
CREATED:20251125T163429Z
LAST-MODIFIED:20251125T163429Z
UID:10006620-1787824800-1787832000@www.discovergosport.co.uk
SUMMARY:Willow welly and wellbeing group
DESCRIPTION:Weekly volunteer session in the Willow Incredible Garden behind Forton Medical Centre. All welcome. Come and join this relaxed and friendly group\, do as much or as little as you wish and pop in for 10 minutes or 2 hours. A friendly welcome awaits. Tools\, gloves and refreshments provided. \nGarden behind Forton Medical Centre\, Whites Place\, PO12 3JP
URL:https://www.discovergosport.co.uk/event/willow-welly-and-wellbeing-group/2026-08-27/
CATEGORIES:Community,Explore
ATTACH;FMTTYPE=image/png:https://www.discovergosport.co.uk/wp-content/uploads/2025/11/Willow-Welly-and-Wellbeing-group-A5-Document.zip-2-e1764088446423.png
END:VEVENT
BEGIN:VEVENT
DTSTART;TZID=UTC:20260903T100000
DTEND;TZID=UTC:20260903T120000
DTSTAMP:20260420T080027
CREATED:20251125T163429Z
LAST-MODIFIED:20251125T163429Z
UID:10006621-1788429600-1788436800@www.discovergosport.co.uk
SUMMARY:Willow welly and wellbeing group
DESCRIPTION:Weekly volunteer session in the Willow Incredible Garden behind Forton Medical Centre. All welcome. Come and join this relaxed and friendly group\, do as much or as little as you wish and pop in for 10 minutes or 2 hours. A friendly welcome awaits. Tools\, gloves and refreshments provided. \nGarden behind Forton Medical Centre\, Whites Place\, PO12 3JP
URL:https://www.discovergosport.co.uk/event/willow-welly-and-wellbeing-group/2026-09-03/
CATEGORIES:Community,Explore
ATTACH;FMTTYPE=image/png:https://www.discovergosport.co.uk/wp-content/uploads/2025/11/Willow-Welly-and-Wellbeing-group-A5-Document.zip-2-e1764088446423.png
END:VEVENT
BEGIN:VEVENT
DTSTART;TZID=UTC:20260910T100000
DTEND;TZID=UTC:20260910T120000
DTSTAMP:20260420T080027
CREATED:20251125T163429Z
LAST-MODIFIED:20251125T163429Z
UID:10006622-1789034400-1789041600@www.discovergosport.co.uk
SUMMARY:Willow welly and wellbeing group
DESCRIPTION:Weekly volunteer session in the Willow Incredible Garden behind Forton Medical Centre. All welcome. Come and join this relaxed and friendly group\, do as much or as little as you wish and pop in for 10 minutes or 2 hours. A friendly welcome awaits. Tools\, gloves and refreshments provided. \nGarden behind Forton Medical Centre\, Whites Place\, PO12 3JP
URL:https://www.discovergosport.co.uk/event/willow-welly-and-wellbeing-group/2026-09-10/
CATEGORIES:Community,Explore
ATTACH;FMTTYPE=image/png:https://www.discovergosport.co.uk/wp-content/uploads/2025/11/Willow-Welly-and-Wellbeing-group-A5-Document.zip-2-e1764088446423.png
END:VEVENT
BEGIN:VEVENT
DTSTART;TZID=UTC:20260917T100000
DTEND;TZID=UTC:20260917T120000
DTSTAMP:20260420T080027
CREATED:20251125T163429Z
LAST-MODIFIED:20251125T163429Z
UID:10006623-1789639200-1789646400@www.discovergosport.co.uk
SUMMARY:Willow welly and wellbeing group
DESCRIPTION:Weekly volunteer session in the Willow Incredible Garden behind Forton Medical Centre. All welcome. Come and join this relaxed and friendly group\, do as much or as little as you wish and pop in for 10 minutes or 2 hours. A friendly welcome awaits. Tools\, gloves and refreshments provided. \nGarden behind Forton Medical Centre\, Whites Place\, PO12 3JP
URL:https://www.discovergosport.co.uk/event/willow-welly-and-wellbeing-group/2026-09-17/
CATEGORIES:Community,Explore
ATTACH;FMTTYPE=image/png:https://www.discovergosport.co.uk/wp-content/uploads/2025/11/Willow-Welly-and-Wellbeing-group-A5-Document.zip-2-e1764088446423.png
END:VEVENT
BEGIN:VEVENT
DTSTART;TZID=UTC:20260924T100000
DTEND;TZID=UTC:20260924T120000
DTSTAMP:20260420T080027
CREATED:20251125T163429Z
LAST-MODIFIED:20251125T163429Z
UID:10006624-1790244000-1790251200@www.discovergosport.co.uk
SUMMARY:Willow welly and wellbeing group
DESCRIPTION:Weekly volunteer session in the Willow Incredible Garden behind Forton Medical Centre. All welcome. Come and join this relaxed and friendly group\, do as much or as little as you wish and pop in for 10 minutes or 2 hours. A friendly welcome awaits. Tools\, gloves and refreshments provided. \nGarden behind Forton Medical Centre\, Whites Place\, PO12 3JP
URL:https://www.discovergosport.co.uk/event/willow-welly-and-wellbeing-group/2026-09-24/
CATEGORIES:Community,Explore
ATTACH;FMTTYPE=image/png:https://www.discovergosport.co.uk/wp-content/uploads/2025/11/Willow-Welly-and-Wellbeing-group-A5-Document.zip-2-e1764088446423.png
END:VEVENT
BEGIN:VEVENT
DTSTART;TZID=UTC:20261001T100000
DTEND;TZID=UTC:20261001T120000
DTSTAMP:20260420T080027
CREATED:20251125T163429Z
LAST-MODIFIED:20251125T163429Z
UID:10006625-1790848800-1790856000@www.discovergosport.co.uk
SUMMARY:Willow welly and wellbeing group
DESCRIPTION:Weekly volunteer session in the Willow Incredible Garden behind Forton Medical Centre. All welcome. Come and join this relaxed and friendly group\, do as much or as little as you wish and pop in for 10 minutes or 2 hours. A friendly welcome awaits. Tools\, gloves and refreshments provided. \nGarden behind Forton Medical Centre\, Whites Place\, PO12 3JP
URL:https://www.discovergosport.co.uk/event/willow-welly-and-wellbeing-group/2026-10-01/
CATEGORIES:Community,Explore
ATTACH;FMTTYPE=image/png:https://www.discovergosport.co.uk/wp-content/uploads/2025/11/Willow-Welly-and-Wellbeing-group-A5-Document.zip-2-e1764088446423.png
END:VEVENT
BEGIN:VEVENT
DTSTART;TZID=UTC:20261008T100000
DTEND;TZID=UTC:20261008T120000
DTSTAMP:20260420T080027
CREATED:20251125T163429Z
LAST-MODIFIED:20251125T163429Z
UID:10006626-1791453600-1791460800@www.discovergosport.co.uk
SUMMARY:Willow welly and wellbeing group
DESCRIPTION:Weekly volunteer session in the Willow Incredible Garden behind Forton Medical Centre. All welcome. Come and join this relaxed and friendly group\, do as much or as little as you wish and pop in for 10 minutes or 2 hours. A friendly welcome awaits. Tools\, gloves and refreshments provided. \nGarden behind Forton Medical Centre\, Whites Place\, PO12 3JP
URL:https://www.discovergosport.co.uk/event/willow-welly-and-wellbeing-group/2026-10-08/
CATEGORIES:Community,Explore
ATTACH;FMTTYPE=image/png:https://www.discovergosport.co.uk/wp-content/uploads/2025/11/Willow-Welly-and-Wellbeing-group-A5-Document.zip-2-e1764088446423.png
END:VEVENT
BEGIN:VEVENT
DTSTART;TZID=UTC:20261015T100000
DTEND;TZID=UTC:20261015T120000
DTSTAMP:20260420T080027
CREATED:20251125T163429Z
LAST-MODIFIED:20251125T163429Z
UID:10006627-1792058400-1792065600@www.discovergosport.co.uk
SUMMARY:Willow welly and wellbeing group
DESCRIPTION:Weekly volunteer session in the Willow Incredible Garden behind Forton Medical Centre. All welcome. Come and join this relaxed and friendly group\, do as much or as little as you wish and pop in for 10 minutes or 2 hours. A friendly welcome awaits. Tools\, gloves and refreshments provided. \nGarden behind Forton Medical Centre\, Whites Place\, PO12 3JP
URL:https://www.discovergosport.co.uk/event/willow-welly-and-wellbeing-group/2026-10-15/
CATEGORIES:Community,Explore
ATTACH;FMTTYPE=image/png:https://www.discovergosport.co.uk/wp-content/uploads/2025/11/Willow-Welly-and-Wellbeing-group-A5-Document.zip-2-e1764088446423.png
END:VEVENT
BEGIN:VEVENT
DTSTART;TZID=UTC:20261022T100000
DTEND;TZID=UTC:20261022T120000
DTSTAMP:20260420T080027
CREATED:20251125T163429Z
LAST-MODIFIED:20251125T163429Z
UID:10006628-1792663200-1792670400@www.discovergosport.co.uk
SUMMARY:Willow welly and wellbeing group
DESCRIPTION:Weekly volunteer session in the Willow Incredible Garden behind Forton Medical Centre. All welcome. Come and join this relaxed and friendly group\, do as much or as little as you wish and pop in for 10 minutes or 2 hours. A friendly welcome awaits. Tools\, gloves and refreshments provided. \nGarden behind Forton Medical Centre\, Whites Place\, PO12 3JP
URL:https://www.discovergosport.co.uk/event/willow-welly-and-wellbeing-group/2026-10-22/
CATEGORIES:Community,Explore
ATTACH;FMTTYPE=image/png:https://www.discovergosport.co.uk/wp-content/uploads/2025/11/Willow-Welly-and-Wellbeing-group-A5-Document.zip-2-e1764088446423.png
END:VEVENT
BEGIN:VEVENT
DTSTART;TZID=UTC:20261029T100000
DTEND;TZID=UTC:20261029T120000
DTSTAMP:20260420T080027
CREATED:20251125T163429Z
LAST-MODIFIED:20251125T163429Z
UID:10006629-1793268000-1793275200@www.discovergosport.co.uk
SUMMARY:Willow welly and wellbeing group
DESCRIPTION:Weekly volunteer session in the Willow Incredible Garden behind Forton Medical Centre. All welcome. Come and join this relaxed and friendly group\, do as much or as little as you wish and pop in for 10 minutes or 2 hours. A friendly welcome awaits. Tools\, gloves and refreshments provided. \nGarden behind Forton Medical Centre\, Whites Place\, PO12 3JP
URL:https://www.discovergosport.co.uk/event/willow-welly-and-wellbeing-group/2026-10-29/
CATEGORIES:Community,Explore
ATTACH;FMTTYPE=image/png:https://www.discovergosport.co.uk/wp-content/uploads/2025/11/Willow-Welly-and-Wellbeing-group-A5-Document.zip-2-e1764088446423.png
END:VEVENT
BEGIN:VEVENT
DTSTART;TZID=UTC:20261105T100000
DTEND;TZID=UTC:20261105T120000
DTSTAMP:20260420T080027
CREATED:20251125T163429Z
LAST-MODIFIED:20251125T163429Z
UID:10006630-1793872800-1793880000@www.discovergosport.co.uk
SUMMARY:Willow welly and wellbeing group
DESCRIPTION:Weekly volunteer session in the Willow Incredible Garden behind Forton Medical Centre. All welcome. Come and join this relaxed and friendly group\, do as much or as little as you wish and pop in for 10 minutes or 2 hours. A friendly welcome awaits. Tools\, gloves and refreshments provided. \nGarden behind Forton Medical Centre\, Whites Place\, PO12 3JP
URL:https://www.discovergosport.co.uk/event/willow-welly-and-wellbeing-group/2026-11-05/
CATEGORIES:Community,Explore
ATTACH;FMTTYPE=image/png:https://www.discovergosport.co.uk/wp-content/uploads/2025/11/Willow-Welly-and-Wellbeing-group-A5-Document.zip-2-e1764088446423.png
END:VEVENT
BEGIN:VEVENT
DTSTART;TZID=UTC:20261112T100000
DTEND;TZID=UTC:20261112T120000
DTSTAMP:20260420T080027
CREATED:20251125T163429Z
LAST-MODIFIED:20251125T163429Z
UID:10006631-1794477600-1794484800@www.discovergosport.co.uk
SUMMARY:Willow welly and wellbeing group
DESCRIPTION:Weekly volunteer session in the Willow Incredible Garden behind Forton Medical Centre. All welcome. Come and join this relaxed and friendly group\, do as much or as little as you wish and pop in for 10 minutes or 2 hours. A friendly welcome awaits. Tools\, gloves and refreshments provided. \nGarden behind Forton Medical Centre\, Whites Place\, PO12 3JP
URL:https://www.discovergosport.co.uk/event/willow-welly-and-wellbeing-group/2026-11-12/
CATEGORIES:Community,Explore
ATTACH;FMTTYPE=image/png:https://www.discovergosport.co.uk/wp-content/uploads/2025/11/Willow-Welly-and-Wellbeing-group-A5-Document.zip-2-e1764088446423.png
END:VEVENT
END:VCALENDAR